BEGIN:VCALENDAR
VERSION:2.0
PRODID:-//Sousa Mendes Foundation - ECPv6.15.17//NONSGML v1.0//EN
CALSCALE:GREGORIAN
METHOD:PUBLISH
X-ORIGINAL-URL:https://sousamendesfoundation.org
X-WR-CALDESC:Events for Sousa Mendes Foundation
REFRESH-INTERVAL;VALUE=DURATION:PT1H
X-Robots-Tag:noindex
X-PUBLISHED-TTL:PT1H
BEGIN:VTIMEZONE
TZID:UTC
BEGIN:STANDARD
TZOFFSETFROM:+0000
TZOFFSETTO:+0000
TZNAME:UTC
DTSTART:20140101T000000
END:STANDARD
END:VTIMEZONE
BEGIN:VTIMEZONE
TZID:America/New_York
BEGIN:DAYLIGHT
TZOFFSETFROM:-0500
TZOFFSETTO:-0400
TZNAME:EDT
DTSTART:20140309T070000
END:DAYLIGHT
BEGIN:STANDARD
TZOFFSETFROM:-0400
TZOFFSETTO:-0500
TZNAME:EST
DTSTART:20141102T060000
END:STANDARD
BEGIN:DAYLIGHT
TZOFFSETFROM:-0500
TZOFFSETTO:-0400
TZNAME:EDT
DTSTART:20150308T070000
END:DAYLIGHT
BEGIN:STANDARD
TZOFFSETFROM:-0400
TZOFFSETTO:-0500
TZNAME:EST
DTSTART:20151101T060000
END:STANDARD
BEGIN:DAYLIGHT
TZOFFSETFROM:-0500
TZOFFSETTO:-0400
TZNAME:EDT
DTSTART:20160313T070000
END:DAYLIGHT
BEGIN:STANDARD
TZOFFSETFROM:-0400
TZOFFSETTO:-0500
TZNAME:EST
DTSTART:20161106T060000
END:STANDARD
BEGIN:DAYLIGHT
TZOFFSETFROM:-0500
TZOFFSETTO:-0400
TZNAME:EDT
DTSTART:20170312T070000
END:DAYLIGHT
BEGIN:STANDARD
TZOFFSETFROM:-0400
TZOFFSETTO:-0500
TZNAME:EST
DTSTART:20171105T060000
END:STANDARD
END:VTIMEZONE
BEGIN:VEVENT
DTSTART;TZID=UTC:20160814T080000
DTEND;TZID=UTC:20160814T090000
DTSTAMP:20260419T174936
CREATED:20160803T203609Z
LAST-MODIFIED:20160803T203743Z
UID:15178-1471161600-1471165200@sousamendesfoundation.org
SUMMARY:Travel Channel Feature: “Mysteries at the Museum"
DESCRIPTION:The Travel Channel recently highlighted our exhibition at the Los Angeles Museum of the Holocaust in their program “Mysteries at the Museum.”\nAiring 9a.m.\, 8a.m. Central
URL:https://sousamendesfoundation.org/event/travel-channel-feature-mysteries-at-the-museum-2/
LOCATION:Your Home
ATTACH;FMTTYPE=image/jpeg:https://sousamendesfoundation.org/atdblog/wp-content/uploads/2016/07/travel_channel-logo.jpg
END:VEVENT
BEGIN:VEVENT
DTSTART;TZID=UTC:20160804T190000
DTEND;TZID=UTC:20160804T200000
DTSTAMP:20260419T174936
CREATED:20160803T203015Z
LAST-MODIFIED:20160803T203657Z
UID:15177-1470337200-1470340800@sousamendesfoundation.org
SUMMARY:Travel Channel Feature: “Mysteries at the Museum"
DESCRIPTION:The Travel Channel recently highlighted our exhibition at the Los Angeles Museum of the Holocaust in their program “Mysteries at the Museum.”\nAiring 7p.m.\, 6p.m. Central
URL:https://sousamendesfoundation.org/event/travel-channel-feature-mysteries-at-the-museum/
LOCATION:Your Home
ATTACH;FMTTYPE=image/jpeg:https://sousamendesfoundation.org/atdblog/wp-content/uploads/2016/07/travel_channel-logo.jpg
END:VEVENT
BEGIN:VEVENT
DTSTART;TZID=UTC:20160729T230000
DTEND;TZID=UTC:20160729T230000
DTSTAMP:20260419T174936
CREATED:20160720T225109Z
LAST-MODIFIED:20160720T225925Z
UID:15092-1469833200-1469833200@sousamendesfoundation.org
SUMMARY:Travel Channel Screening: Mystery at the Museum - Angel In Bordeaux
DESCRIPTION:Watch the Travel Channel show Mystery at the Museum as they focus on the Sousa Mendes Foundation’s exhibition at the Los Angeles Museum of the Holocaust. \nSee more dates at: www.travelchannel.com/shows/mysteries-at-the-museum/episodes/mysteries-at-the-museum
URL:https://sousamendesfoundation.org/event/travel-channel-screening-mystery-at-the-museum-angel-in-bordeaux/
LOCATION:Your Home
ATTACH;FMTTYPE=image/jpeg:https://sousamendesfoundation.org/atdblog/wp-content/uploads/2016/07/travel_channel-logo.jpg
END:VEVENT
BEGIN:VEVENT
DTSTART;VALUE=DATE:20160625
DTEND;VALUE=DATE:20160706
DTSTAMP:20260419T174936
CREATED:20160207T082934Z
LAST-MODIFIED:20160228T065832Z
UID:13359-1466812800-1467763199@sousamendesfoundation.org
SUMMARY:Trip: Journey on the Road to Freedom
DESCRIPTION:This trip — designed for visa recipient families\, members of the Sousa Mendes family and Holocaust educators — will retrace the footsteps of Aristides de Sousa Mendes and the refugees of 1940.
URL:https://sousamendesfoundation.org/event/journey-on-the-road-to-freedom-2/
CATEGORIES:Trip
ATTACH;FMTTYPE=image/png:https://sousamendesfoundation.org/atdblog/wp-content/uploads/2016/02/Journey-Event.png
END:VEVENT
BEGIN:VEVENT
DTSTART;TZID=UTC:20160616T190000
DTEND;TZID=UTC:20160616T195000
DTSTAMP:20260419T174936
CREATED:20160604T005124Z
LAST-MODIFIED:20160604T042526Z
UID:14959-1466103600-1466106600@sousamendesfoundation.org
SUMMARY:Guided Tour of Exhibition: Portugal\, the Last Hope: Sousa Mendes’ Visas to Freedom
DESCRIPTION:Guided tour of exhibition including original artifacts such as dolls\, passports\, and identification cards carried by Sousa Mendes visa recipients as they fled Nazi-occupied Europe via Portugal with help from Aristides de Sousa Mendes. \nLeon Levy Gallery and Mezzanine Gallery\, 2nd floor
URL:https://sousamendesfoundation.org/event/guided-tour-ofexhibition-portugal-the-last-hope-sousa-mendes-visas-to-freedom/
LOCATION:Center for Jewish History\, 15 W 16th Street\,  New York\, NY\, 10011\, United States
CATEGORIES:Exhibition
ATTACH;FMTTYPE=image/jpeg:https://sousamendesfoundation.org/atdblog/wp-content/uploads/2016/03/Refugee-children-in-Portugal-2-e1458262086481.jpg
END:VEVENT
BEGIN:VEVENT
DTSTART;TZID=UTC:20160524T190000
DTEND;TZID=UTC:20160524T220000
DTSTAMP:20260419T174936
CREATED:20160505T045136Z
LAST-MODIFIED:20160505T080424Z
UID:14826-1464116400-1464127200@sousamendesfoundation.org
SUMMARY:Film Screening: With God Against Man\, introduced by the filmmaker
DESCRIPTION:In June 2013\, filmmaker Semyon Pinkhasov followed a group of visa recipient families\, along with members of the Sousa Mendes family\, as they embarked on a pilgrimage retracing their families’ footsteps of 73 years earlier. They were “searching for Sousa Mendes” – looking for traces and clues of a lost history in an effort to understand their personal pasts. For trailer click here. \nTickets $5 available at the door. Film screening at 7. Film length is 47′. Guided tours of the exhibition given before and after the screening.
URL:https://sousamendesfoundation.org/event/film-screening-with-god-against-man-introduced-by-the-filmmaker/
LOCATION:Center for Jewish History\,  15 West 16th Street\, New York\, NY\, United States
CATEGORIES:Film Screening
ATTACH;FMTTYPE=image/jpeg:https://sousamendesfoundation.org/atdblog/wp-content/uploads/2016/05/withgodagainstman.jpg
END:VEVENT
BEGIN:VEVENT
DTSTART;TZID=UTC:20160512T183000
DTEND;TZID=UTC:20160512T210000
DTSTAMP:20260419T174936
CREATED:20160207T081841Z
LAST-MODIFIED:20160505T050138Z
UID:13353-1463077800-1463086800@sousamendesfoundation.org
SUMMARY:Dinner: Fundraising dinner benefiting the Sousa Mendes Foundation
DESCRIPTION:Organized by Association of Portuguese Speaking Attorneys \nClick here to view the invitation
URL:https://sousamendesfoundation.org/event/fundraising-dinner-benefiting-the-sousa-mendes-foundation-date-tbd/
LOCATION:Iberia Peninsula Restaurant\, 63-69 Ferry Street\, Newark\, NJ\, United States
CATEGORIES:Dinner
ATTACH;FMTTYPE=image/jpeg:https://sousamendesfoundation.org/atdblog/wp-content/uploads/2016/02/FundRaising-Dinner.jpg
END:VEVENT
BEGIN:VEVENT
DTSTART;VALUE=DATE:20160502
DTEND;VALUE=DATE:20160503
DTSTAMP:20260419T174936
CREATED:20160207T082722Z
LAST-MODIFIED:20160228T065956Z
UID:13357-1462147200-1462233599@sousamendesfoundation.org
SUMMARY:Film screening: Disobedience: The Sousa Mendes Story
DESCRIPTION:Q&A led by Andrée Lotey\, daughter of a Sousa Mendes visa recipient\nTime:  7 p.m.\nPrice:\n$10 CAN members\n$15 CAN non-members.\nFor more information:  rosie@templemontreal.ca
URL:https://sousamendesfoundation.org/event/film-screening-disobedience-the-sousa-mendes-story/
LOCATION:Temple Emanu-El Beth Sholom\, 4100 Sherbrooke Street West\, Westmount\, PQ\, Canada
CATEGORIES:Film Screening
ATTACH;FMTTYPE=image/jpeg:https://sousamendesfoundation.org/atdblog/wp-content/uploads/2013/05/Disobedience-avatar-large.jpg
END:VEVENT
BEGIN:VEVENT
DTSTART;TZID=UTC:20160325T183000
DTEND;TZID=UTC:20160327T210000
DTSTAMP:20260419T174936
CREATED:20160318T023732Z
LAST-MODIFIED:20160318T043652Z
UID:14077-1458930600-1459112400@sousamendesfoundation.org
SUMMARY:Film screenings: The Consul of Bordeaux
DESCRIPTION:Six screenings: \nFriday\, March 25\, 2016\, 6:30 p.m. and 9 p.m.\nSaturday\, March 26\, 4:30 p.m. and 9 p.m.\nSunday\, March 27\, 2016\, 3:30 p.m. and 9 p.m.
URL:https://sousamendesfoundation.org/event/the-consul-of-bordeaux/
LOCATION:Emerson/Paramount Center\, 559 Washington Street\, Boston\, MA
CATEGORIES:Film Screening
ATTACH;FMTTYPE=image/jpeg:https://sousamendesfoundation.org/atdblog/wp-content/uploads/2016/03/25EUFF-Portugal-0.jpg
END:VEVENT
BEGIN:VEVENT
DTSTART;TZID=UTC:20160322T133000
DTEND;TZID=UTC:20160322T153000
DTSTAMP:20260419T174936
CREATED:20160318T033936Z
LAST-MODIFIED:20160318T034540Z
UID:14081-1458653400-1458660600@sousamendesfoundation.org
SUMMARY:Lecture: Les Rescapés de la valise verte et Aristides de Sousa Mendes
DESCRIPTION:Andrée Lotey tells the gripping true story of her discovery of family secrets hidden inside a mysterious green suitcase.
URL:https://sousamendesfoundation.org/event/lecture-les-rescapes-de-la-valise-verte-et-aristides-de-sousa-mendes-2/
LOCATION:Université de Montréal\, Campus de Laval\, Montreal\, Canada
ATTACH;FMTTYPE=image/jpeg:https://sousamendesfoundation.org/atdblog/wp-content/uploads/2015/12/Dr_Andrée_Lotey.jpg
END:VEVENT
BEGIN:VEVENT
DTSTART;TZID=America/New_York:20160315T133000
DTEND;TZID=America/New_York:20160315T153000
DTSTAMP:20260419T174936
CREATED:20151208T031709Z
LAST-MODIFIED:20160228T070057Z
UID:12365-1458048600-1458055800@sousamendesfoundation.org
SUMMARY:Lecture: Les rescapés de la valise verte et Aristides de Sousa Mendes
DESCRIPTION:Andrée Lotey\, daughter of Sousa Mendes visa recipient Jacques Lotey\, presents the gripping true story of her discovery of her father’s true identity and his rescue from Nazi-occupied Europe by Aristides de Sousa Mendes \n\nGeneral admission:  $25 CAN\n60 and above:  $21 CAN\nStudents:  $15 CAN
URL:https://sousamendesfoundation.org/event/lecture-les-rescapes-de-la-valise-verte-et-aristides-de-sousa-mendes/
LOCATION:University of Montreal – Laval Campus\, 1700 rue Jacques-Tétreault\, Laval\, Montreal\, H7N 0B6\, Canada
CATEGORIES:Lecture
ATTACH;FMTTYPE=image/jpeg:https://sousamendesfoundation.org/atdblog/wp-content/uploads/2015/12/Dr_Andrée_Lotey.jpg
END:VEVENT
BEGIN:VEVENT
DTSTART;TZID=UTC:20160307T120000
DTEND;TZID=UTC:20160307T140000
DTSTAMP:20260419T174936
CREATED:20160225T041041Z
LAST-MODIFIED:20160228T070313Z
UID:13513-1457352000-1457359200@sousamendesfoundation.org
SUMMARY:Lecture:  The Untold Story of Aristides de Sousa Mendes
DESCRIPTION:Speaker Felipe Gomes\nThe Rotary Club of London\, Ontario \nCost: $25 CAD
URL:https://sousamendesfoundation.org/event/lecture-the-untold-story-of-aristides-de-sousa-mendes-speaker-felipe-gomes/
LOCATION:Aroma Restaurant\, 717 Richmond St.\, London\, ON\, Canada
CATEGORIES:Lecture
ATTACH;FMTTYPE=image/png:https://sousamendesfoundation.org/atdblog/wp-content/uploads/2016/02/felipe.png
END:VEVENT
BEGIN:VEVENT
DTSTART;VALUE=DATE:20160201
DTEND;VALUE=DATE:20160302
DTSTAMP:20260419T174936
CREATED:20160212T231537Z
LAST-MODIFIED:20160228T230748Z
UID:13371-1454284800-1456876799@sousamendesfoundation.org
SUMMARY:Exhibition: Visas to Freedom: Sousa Mendes and the Refugees of World War II
DESCRIPTION:Read more on our Press Release
URL:https://sousamendesfoundation.org/event/visas-to-freedom-sousa-mendes-and-the-refugees-of-world-war-ii/
LOCATION:Los Angeles Museum of the Holocaust\, 100 S. The Grove Drive \, Los Angeles\, CA\, 90036\, United States
CATEGORIES:Exhibition
ATTACH;FMTTYPE=image/png:https://sousamendesfoundation.org/atdblog/wp-content/uploads/2015/12/LAMOTH.png
END:VEVENT
BEGIN:VEVENT
DTSTART;TZID=UTC:20160123T150000
DTEND;TZID=UTC:20160123T150000
DTSTAMP:20260419T174936
CREATED:20151208T031007Z
LAST-MODIFIED:20160228T070257Z
UID:12362-1453561200-1453561200@sousamendesfoundation.org
SUMMARY:Gala: Gala Benefit Concert Event
DESCRIPTION:World Premiere of “Circular 14: The Apotheosis of Aristides\,” a dramatic oratorio by Neely Bruce\, starring LA Opera artists Robert MacNeil in the role of Aristides de Sousa Mendes\, Ashley Faatoalia in the role of Salazar\, Marina Harris in the role of Sousa Mendes’s first wife Angelina\, Katherine Giaquinto in the role of Sousa Mendes’s second wife Andrée\, special guest Stephan Kirchgraber\, bass-baritone\, in the role of Rabbi Kruger\, and the actor Michel Gill from “House of Cards” as narrator in the role of Sousa Mendes’s twin brother César. Donald Brinegar conducts the award-winning Donald Brinegar Singers\, with Pedro da Silva on Portuguese guitar\, the leading US performer on the instrument\, and the composer at the piano. Concert produced by Marilyn Ziering with all proceeds benefiting the Sousa Mendes Foundation..\n\nGeneral Seating: $40.\nSponsorship package including two concert tickets and VIP reception following the performance with Michel Gill and the cast: $350. \n\nFor more information on the Los Angeles events\, please see our press release.
URL:https://sousamendesfoundation.org/event/gala-benefit-concert-event/
LOCATION:American Jewish University\,  Moses E. Gindi Auditorium\, 15600 Mulholland Dr\,  Los Angeles\, CA\, 90077 \, United States
ATTACH;FMTTYPE=image/jpeg:https://sousamendesfoundation.org/atdblog/wp-content/uploads/2015/11/home4191400830918.jpg
END:VEVENT
BEGIN:VEVENT
DTSTART;VALUE=DATE:20160123
DTEND;VALUE=DATE:20160124
DTSTAMP:20260419T174936
CREATED:20151208T030611Z
LAST-MODIFIED:20151208T030649Z
UID:12359-1453507200-1453593599@sousamendesfoundation.org
SUMMARY:Aristides de Sousa Mendes\, Holocaust Hero – Exhibition\, film screenings and ceremony
DESCRIPTION:11:00 a.m. Film screening “With God Against Man” – tickets $5 at the door\n2:00 p.m. Film screening\, “Disobedience: The Sousa Mendes Story” – tickets $5 at the door\n6:00 p.m. Exhibition opening\, “Visas to Freedom: Sousa Mendes and the Refugees of World War II.”
URL:https://sousamendesfoundation.org/event/aristides-de-sousa-mendes-holocaust-hero-exhibition-film-screenings-and-ceremony/
LOCATION:Los Angeles Museum of the Holocaust\, 100 S. The Grove Drive \, Los Angeles\, CA\, 90036\, United States
ATTACH;FMTTYPE=image/png:https://sousamendesfoundation.org/atdblog/wp-content/uploads/2015/12/LAMOTH.png
END:VEVENT
BEGIN:VEVENT
DTSTART;TZID=America/New_York:20151115T120000
DTEND;TZID=America/New_York:20151115T130000
DTSTAMP:20260419T174936
CREATED:20150802T082635Z
LAST-MODIFIED:20150802T084557Z
UID:166-1447588800-1447592400@sousamendesfoundation.org
SUMMARY:Sousa Mendes’s List
DESCRIPTION:Lecture by Olivia Mattis\, daughter and granddaughter of Sousa Mendes visa recipients.
URL:https://sousamendesfoundation.org/event/166/
LOCATION:Temple Chaverim\, 1050 Washington Avenue\, Plainview\, NY\, United States
ATTACH;FMTTYPE=image/jpeg:https://sousamendesfoundation.org/atdblog/wp-content/uploads/2015/08/Olivia-website-pic.jpg
END:VEVENT
BEGIN:VEVENT
DTSTART;TZID=America/New_York:20150826T110000
DTEND;TZID=America/New_York:20150826T130000
DTSTAMP:20260419T174936
CREATED:20150825T011132Z
LAST-MODIFIED:20150825T011927Z
UID:174-1440586800-1440594000@sousamendesfoundation.org
SUMMARY:Site Visit
DESCRIPTION:To mark the 75th anniversary of Sousa Mendes’s action and the conclusion of Phase 1 of the restoration of his home\, the Portuguese Regional Cultural Directorate (DRCC) is organizing a site visit with the participation of Secretary of State for Culture Jorge Barreto Xavier.\nFree and open to the public
URL:https://sousamendesfoundation.org/event/site-visit-casa-do-passal/
LOCATION:Casa do Passal\, Cabanas do Viriato\, Portugal
ATTACH;FMTTYPE=image/png:https://sousamendesfoundation.org/atdblog/wp-content/uploads/2015/08/house-e1439859258342.png
END:VEVENT
BEGIN:VEVENT
DTSTART;VALUE=DATE:20150124
DTEND;VALUE=DATE:20150125
DTSTAMP:20260419T174936
CREATED:20150825T011811Z
LAST-MODIFIED:20160122T193635Z
UID:177-1422057600-1422143999@sousamendesfoundation.org
SUMMARY:Gala Concert Event
DESCRIPTION:World Premiere performance of “Circular 14: The Apotheosis of Aristides\,” a dramatic oratorio by Neely Bruce
URL:https://sousamendesfoundation.org/event/gala-concert-event/
LOCATION:American Jewish University  Moses E. Gindi Auditorium\, 15600 Mulholland Dr\, Los Angeles\, CA\, 90077\, United States
ATTACH;FMTTYPE=image/jpeg:https://sousamendesfoundation.org/atdblog/wp-content/uploads/2015/08/a-e1439859106466.jpg
END:VEVENT
END:VCALENDAR